BEGIN:VCALENDAR
VERSION:2.0
PRODID:gruene-miesbach.de
METHOD:PUBLISH
BEGIN:VTIMEZONE
TZID:Europe/Berlin
X-LIC-LOCATION:Europe/Berlin
BEGIN:DAYLIGHT
TZOFFSETFROM:+0100
TZOFFSETTO:+0200
TZNAME:CEST
DTSTART:19700329T020000
RRULE:FREQ=YEARLY;INTERVAL=1;BYDAY=-1SU;BYMONTH=3
END:DAYLIGHT
BEGIN:STANDARD
TZOFFSETFROM:+0200
TZOFFSETTO:+0100
TZNAME:CET
DTSTART:19701025T030000
RRULE:FREQ=YEARLY;INTERVAL=1;BYDAY=-1SU;BYMONTH=10
END:STANDARD
END:VTIMEZONE
BEGIN:VEVENT
UID:dce9d4e0974afad56ac3b51117f9c97e@gruene-miesbach.de
URL;VALUE=URI:https://gruene-miesbach.de/termine/aufstellungsversammlung-
 schliersee/
LOCATION:Pfarrsaal des Evang.-Luth. Pfarramts Neuhaus, Josefstalerstraße
  8a, Schliersee
SUMMARY:Aufstellungsversammlung Schliersee
DESCRIPTION;ALTREP="data:text/html,%0A%3Cp%3EAufstellungsversammlung%20Ge
 meindewahlen%20Gr%C3%BCne%20Schliersee%20am%2021.%20November%20im%20Pfarr
 saal%20des%20Evang.-Luth.%20Pfarramts%20Neuhaus%2C%20Josefstalerstra%C3%9
 Fe%208a%2C%2083727%20Schliersee.%20Beginn%2019%20Uhr.%3C%2Fp%3E%0A%0A%0A%
 0A%3Cp%3EInteressierte%20melden%20sich%20bitte%20bei%26nbsp%3B%3Ca%20href
 %3D%22mailto%3Amonika.mangold%40gruene-schliersee.de%22%3Emonika.mangold%
 40gruene-schliersee.de%3C%2Fa%3E%26nbsp%3Boder%26nbsp%3B%3Ca%20href%3D%22
 mailto%3Ageorg.kammholz%40gruene-schliersee.de%22%3Egeorg.kammholz%40grue
 ne-schliersee.de%3C%2Fa%3E%3C%2Fp%3E%0A%0A%0A%0A%3Cp%3E%3C%2Fp%3E%0A":Auf
 stellungsversammlung Gemeindewahlen Grüne Schliersee am 21. November im 
 Pfarrsaal des Evang.-Luth. Pfarramts Neuhaus\, Josefstalerstraße 8a\, 83
 727 Schliersee. Beginn 19 Uhr.\n\nInteressierte melden sich bitte bei mo
 nika.mangold@gruene-schliersee.de oder georg.kammholz@gruene-schliersee
 .de
CLASS:PUBLIC
DTSTART;TZID=Europe/Berlin:20251121T190000
DTEND;TZID=Europe/Berlin:20251121T220000
DTSTAMP:20260419T162020
END:VEVENT
END:VCALENDAR