BEGIN:VCALENDAR
VERSION:2.0
PRODID:gruene-miesbach.de
METHOD:PUBLISH
BEGIN:VTIMEZONE
TZID:Europe/Berlin
X-LIC-LOCATION:Europe/Berlin
BEGIN:DAYLIGHT
TZOFFSETFROM:+0100
TZOFFSETTO:+0200
TZNAME:CEST
DTSTART:19700329T020000
RRULE:FREQ=YEARLY;INTERVAL=1;BYDAY=-1SU;BYMONTH=3
END:DAYLIGHT
BEGIN:STANDARD
TZOFFSETFROM:+0200
TZOFFSETTO:+0100
TZNAME:CET
DTSTART:19701025T030000
RRULE:FREQ=YEARLY;INTERVAL=1;BYDAY=-1SU;BYMONTH=10
END:STANDARD
END:VTIMEZONE
BEGIN:VEVENT
UID:5a5d837d41309f588359b460a1801c87@gruene-miesbach.de
URL;VALUE=URI:https://gruene-miesbach.de/termine/gruener-abend-in-holzkir
 chen-10/
LOCATION:machtSinn
SUMMARY:Grüner Abend in Holzkirchen zur Trinkwasserversorgung
DESCRIPTION;ALTREP="data:text/html,%0A%3Cp%3E%3C%2Fp%3E%0A%0A%0A%0A%3Cp%3
 EWasser%20ist%20ein%20Lebenselixier%2C%20die%20Grundlage%20unseres%20Lebe
 ns.%20Immer%20verf%C3%BCgbares%2C%20sauberes%20Trinkwasser%20erscheint%20
 uns%20selbstverst%C3%A4ndlich.%20Ist%20es%20aber%20nicht.%20%3C%2Fp%3E%0A
 %0A%0A%0A%3Cp%3EDer%20Bund%20Naturschutz%20hat%20nun%20zum%20Thema%20Wass
 er%20eine%20ganze%20Veranstaltungsserie%20konzipiert.Den%20Vortrag%20von%
 20Herrn%20G%C3%B6tz%2C%20Gesch%C3%A4ftsf%C3%BChrer%20der%20Gemeindewerke%
 2C%20zum%20Thema%20Trinkwasserversorgung%20d%C3%BCrfen%20wir%20schon%20ma
 l%20im%20Rahmen%20unseres%20Gr%C3%BCnen%20Abends%20anh%C3%B6ren%20und%20F
 ragen%20stellen.%3C%2Fp%3E%0A%0A%0A%0A%3Cp%3EWie%20%C3%BCblich%20werden%2
 0auch%20Gemeinde-%20und%20Kreisr%C3%A4te%20vor%20Ort%20sein%20und%20freue
 n%20sich%20%C3%BCber%20Euer%20Kommen%20und%20eine%20angeregte%20Diskussio
 n.%3C%2Fp%3E%0A":Wasser ist ein Lebenselixier\, die Grundlage unseres Leb
 ens. Immer verfügbares\, sauberes Trinkwasser erscheint uns selbstverst
 ändlich. Ist es aber nicht.\n\nDer Bund Naturschutz hat nun zum Thema Wa
 sser eine ganze Veranstaltungsserie konzipiert.Den Vortrag von Herrn Göt
 z\, Geschäftsführer der Gemeindewerke\, zum Thema Trinkwasserversorgung
  dürfen wir schon mal im Rahmen unseres Grünen Abends anhören und Frag
 en stellen.\n\nWie üblich werden auch Gemeinde- und Kreisräte vor Ort s
 ein und freuen sich über Euer Kommen und eine angeregte Diskussion.
CLASS:PUBLIC
DTSTART;TZID=Europe/Berlin:20240507T190000
DTEND;TZID=Europe/Berlin:20240507T200000
DTSTAMP:20260421T232934
END:VEVENT
END:VCALENDAR