BEGIN:VCALENDAR
VERSION:2.0
PRODID:gruene-miesbach.de
METHOD:PUBLISH
BEGIN:VTIMEZONE
TZID:Europe/Berlin
X-LIC-LOCATION:Europe/Berlin
BEGIN:DAYLIGHT
TZOFFSETFROM:+0100
TZOFFSETTO:+0200
TZNAME:CEST
DTSTART:19700329T020000
RRULE:FREQ=YEARLY;INTERVAL=1;BYDAY=-1SU;BYMONTH=3
END:DAYLIGHT
BEGIN:STANDARD
TZOFFSETFROM:+0200
TZOFFSETTO:+0100
TZNAME:CET
DTSTART:19701025T030000
RRULE:FREQ=YEARLY;INTERVAL=1;BYDAY=-1SU;BYMONTH=10
END:STANDARD
END:VTIMEZONE
BEGIN:VEVENT
UID:7ad1683a55fb66f695211a40e4e520c0@gruene-miesbach.de
URL;VALUE=URI:https://gruene-miesbach.de/termine/gruenes-treffen-waakirch
 en-2/
LOCATION:NN
SUMMARY:Grünes Treffen Waakirchen
DESCRIPTION;ALTREP="data:text/html,%0A%3Cp%3EDie%20Gr%C3%BCnen%20Gemeinde
 r%C3%A4tinnen%20und%20Ortssprecher%20laden%20herzlich%20zum%20Gr%C3%BCnen
 %20Treffen%20ein.%20Auf%20der%20Tagesordnung%20stehen%20Themen%20aus%20Ge
 meinderat%20und%20Ortsverband.%20Interessierte%20sind%20herzlich%20Willko
 mmen%20und%20schicken%20eine%20Mail%20an%20%3Ca%20href%3D%22mailto%3Acorn
 elia.riepe%40gruene-waakirchen.de%22%3Ecornelia.riepe%40gruene-waakirchen
 .de%3C%2Fa%3E.%3C%2Fp%3E%0A":Die Grünen Gemeinderätinnen und Ortssprech
 er laden herzlich zum Grünen Treffen ein. Auf der Tagesordnung stehen Th
 emen aus Gemeinderat und Ortsverband. Interessierte sind herzlich Willkom
 men und schicken eine Mail an cornelia.riepe@gruene-waakirchen.de.
CLASS:PUBLIC
DTSTART;TZID=Europe/Berlin:20220808T200000
DTEND;TZID=Europe/Berlin:20220808T220000
DTSTAMP:20260423T211113
END:VEVENT
END:VCALENDAR